BEGIN:VCALENDAR
VERSION:2.0
PRODID:-//Maserati Club Sweden - ECPv6.15.18//NONSGML v1.0//EN
CALSCALE:GREGORIAN
METHOD:PUBLISH
X-ORIGINAL-URL:https://maseraticlub.se
X-WR-CALDESC:Händelser för Maserati Club Sweden
REFRESH-INTERVAL;VALUE=DURATION:PT1H
X-Robots-Tag:noindex
X-PUBLISHED-TTL:PT1H
BEGIN:VTIMEZONE
TZID:Europe/Stockholm
BEGIN:DAYLIGHT
TZOFFSETFROM:+0100
TZOFFSETTO:+0200
TZNAME:CEST
DTSTART:20250330T010000
END:DAYLIGHT
BEGIN:STANDARD
TZOFFSETFROM:+0200
TZOFFSETTO:+0100
TZNAME:CET
DTSTART:20251026T010000
END:STANDARD
BEGIN:DAYLIGHT
TZOFFSETFROM:+0100
TZOFFSETTO:+0200
TZNAME:CEST
DTSTART:20260329T010000
END:DAYLIGHT
BEGIN:STANDARD
TZOFFSETFROM:+0200
TZOFFSETTO:+0100
TZNAME:CET
DTSTART:20261025T010000
END:STANDARD
BEGIN:DAYLIGHT
TZOFFSETFROM:+0100
TZOFFSETTO:+0200
TZNAME:CEST
DTSTART:20270328T010000
END:DAYLIGHT
BEGIN:STANDARD
TZOFFSETFROM:+0200
TZOFFSETTO:+0100
TZNAME:CET
DTSTART:20271031T010000
END:STANDARD
END:VTIMEZONE
BEGIN:VEVENT
DTSTART;VALUE=DATE:20260917
DTEND;VALUE=DATE:20260921
DTSTAMP:20260420T105058
CREATED:20260207T110816Z
LAST-MODIFIED:20260207T111242Z
UID:2717-1789603200-1789948799@maseraticlub.se
SUMMARY:Maserati International Rally 2026\, Cannes
DESCRIPTION:The Maserati Club France is delighted to welcome the ”Famiglia-Tridente” to the Maserati International Rally 2026 in the heart of the French Riviera. The Hotel Martinez\, which has illuminated the heart of the Croisette with its ”Art Deco” style for almost a century\, will delightfully immerse you in the splendour of the Maserati Tipo 26 and 8 CM eras\, recalling the victories of the first European Grand Prix races\, as well as the 1931 water speed record. \nThree days of festive sharing\, gastronomic delights\, and discoveries of sumptuous routes between sea and mountains await you. So\, without further ado\, turn the ignition key and embark with us to experience ”French Riviera 2026”. \nThe number of registrations is limited to 100 cars\, so don’t delay in applying to participate in this unique Maserati event.
URL:https://maseraticlub.se/event/maserati-international-rally-2026-cannes/
LOCATION:Hotel Martinez\, 73 Bd de la Croisette\, Cannes\, 06400\, France
CATEGORIES:Maseratiträffar
END:VEVENT
END:VCALENDAR