BEGIN:VCALENDAR
VERSION:2.0
PRODID:-//Maserati Club Sweden - ECPv6.15.18//NONSGML v1.0//EN
CALSCALE:GREGORIAN
METHOD:PUBLISH
X-WR-CALNAME:Maserati Club Sweden
X-ORIGINAL-URL:https://maseraticlub.se
X-WR-CALDESC:Händelser för Maserati Club Sweden
REFRESH-INTERVAL;VALUE=DURATION:PT1H
X-Robots-Tag:noindex
X-PUBLISHED-TTL:PT1H
BEGIN:VTIMEZONE
TZID:Europe/Stockholm
BEGIN:DAYLIGHT
TZOFFSETFROM:+0100
TZOFFSETTO:+0200
TZNAME:CEST
DTSTART:20240331T010000
END:DAYLIGHT
BEGIN:STANDARD
TZOFFSETFROM:+0200
TZOFFSETTO:+0100
TZNAME:CET
DTSTART:20241027T010000
END:STANDARD
BEGIN:DAYLIGHT
TZOFFSETFROM:+0100
TZOFFSETTO:+0200
TZNAME:CEST
DTSTART:20250330T010000
END:DAYLIGHT
BEGIN:STANDARD
TZOFFSETFROM:+0200
TZOFFSETTO:+0100
TZNAME:CET
DTSTART:20251026T010000
END:STANDARD
BEGIN:DAYLIGHT
TZOFFSETFROM:+0100
TZOFFSETTO:+0200
TZNAME:CEST
DTSTART:20260329T010000
END:DAYLIGHT
BEGIN:STANDARD
TZOFFSETFROM:+0200
TZOFFSETTO:+0100
TZNAME:CET
DTSTART:20261025T010000
END:STANDARD
END:VTIMEZONE
BEGIN:VEVENT
DTSTART;TZID=Europe/Stockholm:20250610T160000
DTEND;TZID=Europe/Stockholm:20250610T200000
DTSTAMP:20260420T150907
CREATED:20250405T122852Z
LAST-MODIFIED:20250528T205630Z
UID:2362-1749571200-1749585600@maseraticlub.se
SUMMARY:Maserati på Tisdagsträffen\, Borgeby slott
DESCRIPTION:Maseratiklubben besöker tisdagsträffen på Borgeby slott! \nFör ni som aldrig varit där kan ni öppna länken oven och titta närmre på vad det är för plats. \nJag gjorde en skiss som visar var vi skall vara med våra bilar denna dag. Det är på den sk innergården vi skall vara. Se nedan. \n \nSkulle det bli någon fundering om var innergården är så fråga ngn av de funktionärer som guidar på plats. \nJag kommer att ha med mig flagga och klubbregalier ( dvs kläder och kepsar med vår loga) som ni kan köpa och bli korrekt klädda för transport med Maserati! \nÖnskvärt är att någon av besökarna kan skriva ned en berättelse om mötet samt ta bilder till nästa nummer av Bulletinen. Svara gärna till mig om just du tar på dig denna roll att vara skjutjärnsjournalist vid mötet. Goran.Olsson@maseraticlub.se \nVäl mött på denna träff.\nMvh Göran
URL:https://maseraticlub.se/event/maserati-pa-tisdagstraffen-borgeby-slott/
LOCATION:Borgeby Slott\, Borgeby Slottsväg 13\, Bjärred\, 23791\, Sverige
CATEGORIES:Andra träffar
END:VEVENT
BEGIN:VEVENT
DTSTART;TZID=Europe/Stockholm:20250614T150000
DTEND;TZID=Europe/Stockholm:20250615T110000
DTSTAMP:20260420T150907
CREATED:20241225T102137Z
LAST-MODIFIED:20241225T102137Z
UID:2327-1749913200-1749985200@maseraticlub.se
SUMMARY:Historisk matupplevelse med Carl Jan vid Saxå Bruk
DESCRIPTION:Svenska Maserati Klubben har fått möjlighet att till reducerat pris komma till Saxå Bruk för att medverka på en ”Historisk matupplevelse” med Carl Jan Granqvist. \nVi har 19 dubbelrum att disponera\, så ”först till kvarn” gäller för anmälan. Information om priser och annat praktiskt har skickats ut till alla medlemmar via e-post. Anmälan görs till helena.koos@maseraticlub.se senast den siste mars. \nProgram:\nDag 1\n15.00-16.00\nGäster ankommer \n16.30\nChampagne som Göran Amnegård\, från Blaxta vingård\, bjuder på samt kaffe och mandelkaka.\nCarl-Jan kåserar om Bergslagens historia samt om ”Svensk Gastronomi – en global succé”. \n19.00\n4 – rätters middag i Kolhuset.\nUpplägget för måltiden:\n1 glas champagne med tilltugg\nFörrätt: Crème Ninon\nVarmrätt: Lammracks med primörer\nOsträtt: Bredsjö Blå\nDessert: Rabarber och jordgubbsinnovation\nDryckespaket: I glas champagne\, 1 glas sherry till soppan\, 1 glas rödvin\, med påfyllning\,\ntill varmrätten\, Carl-jan söt till osten\, Sällskapets portvin till desserten \n22.00-24.00\nKaffe i Herrgårdens Rosa övre sal. Carl-Jan kåserar om Saxå bruk. \n24.00\nÖvernattning i dubbel eller enkelrum. \nDag 2\n08.00-10.00\nFrukost \n11.00\nUtcheckning
URL:https://maseraticlub.se/event/historisk-matupplevelse-med-carl-jan-vid-saxa-bruk/
LOCATION:Saxå Bruk\, Saxå Bruk\, Filipstad\, 682 92\, Sweden
CATEGORIES:Andra träffar,Maseratiträffar
ORGANIZER;CN="Maserati Club Sweden":MAILTO:info@maseraticlub.se
END:VEVENT
END:VCALENDAR