BEGIN:VCALENDAR
VERSION:2.0
PRODID:-//Maserati Club Sweden - ECPv6.15.18//NONSGML v1.0//EN
CALSCALE:GREGORIAN
METHOD:PUBLISH
X-ORIGINAL-URL:https://maseraticlub.se
X-WR-CALDESC:Händelser för Maserati Club Sweden
REFRESH-INTERVAL;VALUE=DURATION:PT1H
X-Robots-Tag:noindex
X-PUBLISHED-TTL:PT1H
BEGIN:VTIMEZONE
TZID:Europe/Stockholm
BEGIN:DAYLIGHT
TZOFFSETFROM:+0100
TZOFFSETTO:+0200
TZNAME:CEST
DTSTART:20230326T010000
END:DAYLIGHT
BEGIN:STANDARD
TZOFFSETFROM:+0200
TZOFFSETTO:+0100
TZNAME:CET
DTSTART:20231029T010000
END:STANDARD
BEGIN:DAYLIGHT
TZOFFSETFROM:+0100
TZOFFSETTO:+0200
TZNAME:CEST
DTSTART:20240331T010000
END:DAYLIGHT
BEGIN:STANDARD
TZOFFSETFROM:+0200
TZOFFSETTO:+0100
TZNAME:CET
DTSTART:20241027T010000
END:STANDARD
BEGIN:DAYLIGHT
TZOFFSETFROM:+0100
TZOFFSETTO:+0200
TZNAME:CEST
DTSTART:20250330T010000
END:DAYLIGHT
BEGIN:STANDARD
TZOFFSETFROM:+0200
TZOFFSETTO:+0100
TZNAME:CET
DTSTART:20251026T010000
END:STANDARD
END:VTIMEZONE
BEGIN:VEVENT
DTSTART;TZID=Europe/Stockholm:20240501T100000
DTEND;TZID=Europe/Stockholm:20240501T140000
DTSTAMP:20260421T135309
CREATED:20240404T204333Z
LAST-MODIFIED:20240424T181655Z
UID:2282-1714557600-1714572000@maseraticlub.se
SUMMARY:1 maj vid Krapperup slott
DESCRIPTION:Självklart blir det italiensk träff den 1 maj\, både norr om Stockholm och i norra Skåne. Och här är det alltså Skåne som gäller. \nLäs mer om träffen på autostoriche.se. \nVi ses där som vanligt och har en trevlig dag bland trevligt folk och bilar! \nKör in på området och lite längre fram svänger höger där vi likt tidigare år hållit till. Ni kommer dessutom att se vår Maseratiflagga stolt vaja i den förhoppningsvis varma vinden. Henrik Hoff kommer att finnas på plats och ansvarar för att kaffe och ngn bulle finns att förtära vid tidigare nämnda Maseratiflagga.
URL:https://maseraticlub.se/event/1-maj-vid-krapperup-slott-2024/
LOCATION:Krapperups Slott\, Krapperupsvägen 417\, Nyhamnsläge\, 26041\, Sverige
CATEGORIES:Andra träffar
END:VEVENT
BEGIN:VEVENT
DTSTART;TZID=Europe/Stockholm:20240501T100000
DTEND;TZID=Europe/Stockholm:20240501T150000
DTSTAMP:20260421T135309
CREATED:20240404T203637Z
LAST-MODIFIED:20240424T181517Z
UID:2280-1714557600-1714575600@maseraticlub.se
SUMMARY:1 maj vid Skokloster slott
DESCRIPTION:Självklart blir det italiensk träff den 1 maj\, både norr om Stockholm och i norra Skåne. Och här är det alltså mälardalen som gäller. \nLäs mer om träffen på Alfaklubbens hemsida. \nSom vanligt blir det också samkörning till Skokloster för de som vill de. Följande tider och platser är det då som gäller: \n\nTid: 08:30\nPlats: Autoropa\, Södra Hamnvägen 8\, 115 41\, Stockholm\nAutoropa bjuder på frukostfika.\nRing och anmäl ditt deltagande på telefonnr. 08-562 485 10\nAvfärd/uppsittning mot Skokloster Slott ca 09:15\n\nVarmt välkomna! \n//Christer Mattsson\, Håkan Carlsson och Patric Norén/Jakob Wiklund\, Autoropa. \nVäl ute på Skokloster kommer Hans Asplund och Rolf Westberg att ansvara för korvgrillning.
URL:https://maseraticlub.se/event/1-maj-vid-skokloster-slott-2024/
LOCATION:Skoklosters Slott\, Skoklosters slott\, Skokloster\, 74696\, Sverige
CATEGORIES:Andra träffar
END:VEVENT
BEGIN:VEVENT
DTSTART;TZID=Europe/Stockholm:20240511T090000
DTEND;TZID=Europe/Stockholm:20240511T150000
DTSTAMP:20260421T135309
CREATED:20240404T204541Z
LAST-MODIFIED:20240421T190941Z
UID:2284-1715418000-1715439600@maseraticlub.se
SUMMARY:Vårrally kring Mälaren
DESCRIPTION:Lördagen den 11 maj är det återigen dags för Maseratiklubbens traditionsenliga vårutflykt.\nDenna gång samlas vi i Arninge Centrum på parkeringen framför COOP kl. 09.00 för avprickning och information. (Avfart 185 från E18 trafikplats Arninge Centrum.) \nEfter däcksspark och urvarvning av våra italienska fullblod så drar vi 09.30 iväg ut på E18 mot Norrtälje och Brottby. \nSedan på smala kurviga asfalterade vägar vidare via Ledinge o Malmby till Nedergårdens ”Gammalt o Nytt”\, som vi beräknar ankomma till kl. 11.00. \nI deras servering avnjuter vi en frukttårta och kaffe samt har tid för däcksspark. \nDe som till äventyrs inte vill ha frukttårta får en torr skorpa!! Dvs det alternativ som finns den dagen. \nDetta stopp erbjuder försäljning av diverse kuriosa bl.a. färg o pynt. \nVidare mot lunchen…\nKl 12.00 är det dags att med flygande start prova toppfarten på väg 77. Kanske någon omkörning blir till mellan fartkamerorna… Efter en stund passerar vi E4 och kör förbi vattendrag o runstenar. \nCa 13.15 anländer vi till Ekolsunds Slott\, där vi i en 1700-tals byggnad intar dagens lunch bestående av bröd\, sallad\, bordsvatten\, kaffe och kaka samt val mellan: \n\nBiff Stroganoff med syrad grädde\, basmatiris\, saltgurka och grillad broccoli\nUgnsbakad Lax med dillslungad potatis och pepparrotsmajonnäs.\n\nPriset för denna utflykt är 275:- per person. \nIcke medlemmar betalar 275:- till klubben (bankgiro 433–3753\, märk med namn och vårutflykt) medans medlemmar bjuds på kostnaden av Maserati klubben. \nAnmälan senast den 5:e Maj till hans.orming@symbioskliniken.se med \nNamn på deltagare + Telefonnummer + eventuella icke medlemmar\, samt val av mat; kött eller fiskrätt. \nMvh Styrelsen genom Hans Örming och Helena Koos
URL:https://maseraticlub.se/event/varrally-kring-malaren-2024/
CATEGORIES:Maseratiträffar
ORGANIZER;CN="Maserati Club Sweden":MAILTO:info@maseraticlub.se
END:VEVENT
END:VCALENDAR