BEGIN:VCALENDAR
VERSION:2.0
PRODID:-//Maserati Club Sweden - ECPv6.15.18//NONSGML v1.0//EN
CALSCALE:GREGORIAN
METHOD:PUBLISH
X-WR-CALNAME:Maserati Club Sweden
X-ORIGINAL-URL:https://maseraticlub.se
X-WR-CALDESC:Händelser för Maserati Club Sweden
REFRESH-INTERVAL;VALUE=DURATION:PT1H
X-Robots-Tag:noindex
X-PUBLISHED-TTL:PT1H
BEGIN:VTIMEZONE
TZID:Europe/Stockholm
BEGIN:DAYLIGHT
TZOFFSETFROM:+0100
TZOFFSETTO:+0200
TZNAME:CEST
DTSTART:20220327T010000
END:DAYLIGHT
BEGIN:STANDARD
TZOFFSETFROM:+0200
TZOFFSETTO:+0100
TZNAME:CET
DTSTART:20221030T010000
END:STANDARD
BEGIN:DAYLIGHT
TZOFFSETFROM:+0100
TZOFFSETTO:+0200
TZNAME:CEST
DTSTART:20230326T010000
END:DAYLIGHT
BEGIN:STANDARD
TZOFFSETFROM:+0200
TZOFFSETTO:+0100
TZNAME:CET
DTSTART:20231029T010000
END:STANDARD
BEGIN:DAYLIGHT
TZOFFSETFROM:+0100
TZOFFSETTO:+0200
TZNAME:CEST
DTSTART:20240331T010000
END:DAYLIGHT
BEGIN:STANDARD
TZOFFSETFROM:+0200
TZOFFSETTO:+0100
TZNAME:CET
DTSTART:20241027T010000
END:STANDARD
END:VTIMEZONE
BEGIN:VEVENT
DTSTART;TZID=Europe/Stockholm:20231215T173000
DTEND;TZID=Europe/Stockholm:20231215T233000
DTSTAMP:20260422T023138
CREATED:20231114T214402Z
LAST-MODIFIED:20231114T220012Z
UID:2260-1702661400-1702683000@maseraticlub.se
SUMMARY:Julmiddag
DESCRIPTION:Välkomna till klubbens klassiska julmiddag fredagen den 15 december i Stockholm! \nI år kommer vi hålla till på restaurang Capri Due på Tomtebogatan 27\, en restaurang som ”kombinerar traditionella italienska rätter med en familjär miljö och en god stämning”. Vi tänker att middagen börjar kl 18\, men vi har borden från 17:30. \nFör att göra kvällen så smidig som möjligt\, välj en av menyerna nedan (och ange vilken ni valt vid anmälan). Observera att vissa menyalternativ innehålle ytterligare val. Om ni önskar vegetariskt alternativ eller barnmeny\, hänvisar vi till restaurangens ordinarie meny. \nKlubben bjuder i år på maten\, men varje gäst står för sin egen dryck. \nAnmälan sker till hansulric.josefsson@gmail.com senast den 7 december. \nVälkomna!\n\nMENYFÖRSLAG – PASTA\nFÖRRÄTT\nANTIPASTO\nItalienska charkuterier bestående av tryffelsalami\, salame sopressa Veneta\, bresaola\, prosciutto cotto & 20 månader lagrad parmaskinka. Serveras med soltorkade tomater\, oliver & grissini. \nVARMRÄTT – Välj två av dessa fyra.\nPIEMONTESE\nPasta med oxfilé & champinjoner som sauteras i smör & vitt vin. Serveras med en krämig\ntryffelsås. \nGNOCCHI ALLA SORRENTINA\nPotatispasta med en len tomatsås & basilika som toppas med buffelmozzarella. \nPASTA CON SALSICCIA\nPasta med italiensk salsiccia från Toscana\, tomatsås\, vitlök & schalottenlök. Toppas med en\nlagrad ricotta salata från Sicilien. \nPACIOTTI\nPastakuddar fyllda med aubergin & provoloneost. Serveras med en krämig karljohansvampssås. \nEFTERRÄTT\nTIRAMISÙ\nSavoiardikex indränkta i espresso- & marsalavin som varvas med krämig mascarpone. \n\nMENYFÖRSLAG – KÖTT\nFÖRRÄTT\nBURRATA\nKrämig burrata på en bädd av rucola\, pistagepesto\, soltorkade tomater & basilika. \nVARMRÄTT – Välj en av dessa.\nTAGLIATA DI MANZO\nGrillad flankstek toppad med rucola\, hyvlad Parmigiano-Reggiano & rödvinssås. Serveras\nmed klyftpotatis. \nCONTROFILLETTO D’AGNELLO\nGrillad lammytterfilé med rödvinssås & potatiskaka. \nEFTERRÄTT\nGELATO\nHasselnöt\, pistage & amarena (bigarrå). \n\nMENYFÖRSLAG – FISK\nFÖRRÄTT\nFRITTO MISTO\nFriterad bläckfisk & scampi. Serveras med en chili-& limedressing. \nVARMRÄTT\nTONNO IN CROSTA DI PISTACCHIO\nHalstrad tonfisk med en pistageskorpa på en bädd av vårsallat. Serveras med en dressing gjord på mandel\, mynta & basilika. \nEFTERRÄTT\nSORBETTO\nCitron\, mango & skogsbär.
URL:https://maseraticlub.se/event/julmiddag-2023/
LOCATION:Capri Due\, Tomtebogatan 27\, Stockholm\, 113 38\, Sverige
CATEGORIES:Maseratiträffar
ATTACH;FMTTYPE=image/jpeg:https://maseraticlub.se/wp-content/uploads/2023/11/2017-Capri-Due-1412.jpg
ORGANIZER;CN="Maserati Club Sweden":MAILTO:info@maseraticlub.se
END:VEVENT
END:VCALENDAR