BEGIN:VCALENDAR
VERSION:2.0
PRODID:-//Maserati Club Sweden - ECPv6.15.18//NONSGML v1.0//EN
CALSCALE:GREGORIAN
METHOD:PUBLISH
X-ORIGINAL-URL:https://maseraticlub.se
X-WR-CALDESC:Händelser för Maserati Club Sweden
REFRESH-INTERVAL;VALUE=DURATION:PT1H
X-Robots-Tag:noindex
X-PUBLISHED-TTL:PT1H
BEGIN:VTIMEZONE
TZID:Europe/Stockholm
BEGIN:DAYLIGHT
TZOFFSETFROM:+0100
TZOFFSETTO:+0200
TZNAME:CEST
DTSTART:20220327T010000
END:DAYLIGHT
BEGIN:STANDARD
TZOFFSETFROM:+0200
TZOFFSETTO:+0100
TZNAME:CET
DTSTART:20221030T010000
END:STANDARD
BEGIN:DAYLIGHT
TZOFFSETFROM:+0100
TZOFFSETTO:+0200
TZNAME:CEST
DTSTART:20230326T010000
END:DAYLIGHT
BEGIN:STANDARD
TZOFFSETFROM:+0200
TZOFFSETTO:+0100
TZNAME:CET
DTSTART:20231029T010000
END:STANDARD
BEGIN:DAYLIGHT
TZOFFSETFROM:+0100
TZOFFSETTO:+0200
TZNAME:CEST
DTSTART:20240331T010000
END:DAYLIGHT
BEGIN:STANDARD
TZOFFSETFROM:+0200
TZOFFSETTO:+0100
TZNAME:CET
DTSTART:20241027T010000
END:STANDARD
END:VTIMEZONE
BEGIN:VEVENT
DTSTART;TZID=Europe/Stockholm:20230501T100000
DTEND;TZID=Europe/Stockholm:20230501T140000
DTSTAMP:20260422T134022
CREATED:20230321T214223Z
LAST-MODIFIED:20230321T214223Z
UID:2221-1682935200-1682949600@maseraticlub.se
SUMMARY:Italiensk träff vid Krapperups slott
DESCRIPTION:För tionde året arrangeras träffen för alla italienska fordon på Krapperup den första maj 2023! \nVälkommen till Krapperup den 1 maj\, kl 10-14\, där alla italienska fordon är välkomna! Nya som gamla\, i toppskick eller rullande renovering\, med 2\, 3 eller 4 hjul! \nSom vanligt kommer det finnas mat- och dryckservering\, föräljning\, utställare och mycket mer. \nKrapperups slott ligger längs väg 111 mellan Höganäs och Mölle \n1 maj på Krapperup 2022
URL:https://maseraticlub.se/event/italiensk-traff-vid-krapperups-slott/
LOCATION:Krapperups Slott\, Krapperupsvägen 417\, Nyhamnsläge\, 26041\, Sverige
CATEGORIES:Andra träffar
END:VEVENT
BEGIN:VEVENT
DTSTART;TZID=Europe/Stockholm:20230501T100000
DTEND;TZID=Europe/Stockholm:20230501T170000
DTSTAMP:20260422T134022
CREATED:20230424T184806Z
LAST-MODIFIED:20230427T060157Z
UID:2230-1682935200-1682960400@maseraticlub.se
SUMMARY:Italiensk träff vid Skokloster slott
DESCRIPTION:Som vanligt blir det träff för italienska fordon vid Skokloster slott\, nordväst om Stockholm\, den 1 maj! \nDet börjar vid 10 och håller på till 17\, eller tills sista bilen kör hem… \nAutoropa bjuder in till frukost på sitt servicecenter i Frihamnen. Frukosten serveras 8:30 och sedan är det gemensam avfärd mot Skokloster 9:15.
URL:https://maseraticlub.se/event/italiensk-traff-vid-skokloster-slott-2023/
LOCATION:Skoklosters Slott\, Skoklosters slott\, Skokloster\, 74696\, Sverige
CATEGORIES:Andra träffar
END:VEVENT
BEGIN:VEVENT
DTSTART;TZID=Europe/Stockholm:20230527T090000
DTEND;TZID=Europe/Stockholm:20230527T170000
DTSTAMP:20260422T134022
CREATED:20230325T140746Z
LAST-MODIFIED:20230427T062838Z
UID:2224-1685178000-1685206800@maseraticlub.se
SUMMARY:Vårrally
DESCRIPTION:Samling med upprop och information kl 8:40 vid Shell och Mc Donalds\, trafikplats 146 på E4/E20 i Hallunda. Avfärd kl 09:00. \nAnkomst Kafé Klavér (nära Mariefred) KL10.20 för kaffe och en kaka. \nFortsatt körning mot Sundbyholms gästhamn\, där en lättare lunch intages. Välj mellan lax och kyckling när ni anmäler er. \nANMÄLAN\nAnmälan sker till jan.fidjeland@maseraticlub.se med medlemsnamn på deltagarna och val av maträtt\nför lunchen på Sundbyholm Gästhamn\, senast anmälan 17 maj 2023. Anmälan är bindande då\nklubben måste göra beställningar i förväg. Sker avbokning efter 19 maj 2023\, måste vi debitera\nanmälningsavgiften då denna debiteras klubben. \nBETALNING\nNär ni fått bekräftelse om plats inbetalas 175kronor/person till klubbens Bankgiro 433-3753. Ange\n”vårutflykt”\, medlems nr. och namn. \nVäl mött hälsar\,\nSvenska Maseratiklubben\nJan Fidjeland 0733-414340 och Hans Örming 070-5614167
URL:https://maseraticlub.se/event/varrally-23/
CATEGORIES:Maseratiträffar
ORGANIZER;CN="Maserati Club Sweden":MAILTO:info@maseraticlub.se
END:VEVENT
END:VCALENDAR