BEGIN:VCALENDAR
VERSION:2.0
PRODID:-//Maserati Club Sweden - ECPv6.15.18//NONSGML v1.0//EN
CALSCALE:GREGORIAN
METHOD:PUBLISH
X-ORIGINAL-URL:https://maseraticlub.se
X-WR-CALDESC:Händelser för Maserati Club Sweden
REFRESH-INTERVAL;VALUE=DURATION:PT1H
X-Robots-Tag:noindex
X-PUBLISHED-TTL:PT1H
BEGIN:VTIMEZONE
TZID:Europe/Stockholm
BEGIN:DAYLIGHT
TZOFFSETFROM:+0100
TZOFFSETTO:+0200
TZNAME:CEST
DTSTART:20210328T010000
END:DAYLIGHT
BEGIN:STANDARD
TZOFFSETFROM:+0200
TZOFFSETTO:+0100
TZNAME:CET
DTSTART:20211031T010000
END:STANDARD
BEGIN:DAYLIGHT
TZOFFSETFROM:+0100
TZOFFSETTO:+0200
TZNAME:CEST
DTSTART:20220327T010000
END:DAYLIGHT
BEGIN:STANDARD
TZOFFSETFROM:+0200
TZOFFSETTO:+0100
TZNAME:CET
DTSTART:20221030T010000
END:STANDARD
BEGIN:DAYLIGHT
TZOFFSETFROM:+0100
TZOFFSETTO:+0200
TZNAME:CEST
DTSTART:20230326T010000
END:DAYLIGHT
BEGIN:STANDARD
TZOFFSETFROM:+0200
TZOFFSETTO:+0100
TZNAME:CET
DTSTART:20231029T010000
END:STANDARD
END:VTIMEZONE
BEGIN:VEVENT
DTSTART;TZID=Europe/Stockholm:20220501T100000
DTEND;TZID=Europe/Stockholm:20220501T140000
DTSTAMP:20260423T094230
CREATED:20220227T210748Z
LAST-MODIFIED:20220227T210748Z
UID:1589-1651399200-1651413600@maseraticlub.se
SUMMARY:Italiensk träff vid Krapperup Slott
DESCRIPTION:Äntligen är det återigen dags för ”Italienarträffen på Krapperups Slott”! \nTiden är som vanligt 10-14 och det kommer finnas olika utställare och matförsäljare på plats. \nVi återkommer med information om eventuell samkörning dit.
URL:https://maseraticlub.se/event/italiensk-traff-vid-krapperup-slott/
LOCATION:Krapperups Slott\, Krapperupsvägen 417\, Nyhamnsläge\, 26041\, Sverige
END:VEVENT
BEGIN:VEVENT
DTSTART;TZID=Europe/Stockholm:20220501T100000
DTEND;TZID=Europe/Stockholm:20220501T173000
DTSTAMP:20260423T094230
CREATED:20220410T185130Z
LAST-MODIFIED:20220420T134359Z
UID:1608-1651399200-1651426200@maseraticlub.se
SUMMARY:Italiensk träff vid Skokloster slott
DESCRIPTION:Återigen är det dags för italienska träffen vid Skokloster slott norr om Stockholm! \nAlfa Romeo-klubben välkomnar alla italienska fordon till denna\, numera traditionella\, träff vid Skokloster slott. \nFör de som vill köra dit tillsammans\, träffas vi först hos Autoropa Service vid Frihamnen i Stockholm. \n\nTid: 08:30\nPlats: Autoropa Service\, Södra Hamnvägen 8\, 115 41\, Stockholm\nAutoropa bjuder på frukostfika och nyttig bilinformation\nAvfärd mot Skokloster Slott ca 09:15\nMer info på: https://www.alfaromeo.org/var-verksamhet/kalender/italienska-bildagen-2022/\n\nVarmt välkomna att sjunga in våren med en härlig italiensk motorkör! \n//Christer Mattsson\, Håkan Carlsson\, Fredric Gustafsson och Patric Norén\nFerrari Club Sweden\, Maserati Club Sweden och Autoropa.
URL:https://maseraticlub.se/event/italiensk-traff-vid-skokloster-slott/
LOCATION:Skoklosters Slott\, Skoklosters slott\, Skokloster\, 74696\, Sverige
CATEGORIES:Andra träffar
END:VEVENT
END:VCALENDAR