BEGIN:VCALENDAR
VERSION:2.0
PRODID:-//Maserati Club Sweden - ECPv6.15.18//NONSGML v1.0//EN
CALSCALE:GREGORIAN
METHOD:PUBLISH
X-WR-CALNAME:Maserati Club Sweden
X-ORIGINAL-URL:https://maseraticlub.se
X-WR-CALDESC:Händelser för Maserati Club Sweden
REFRESH-INTERVAL;VALUE=DURATION:PT1H
X-Robots-Tag:noindex
X-PUBLISHED-TTL:PT1H
BEGIN:VTIMEZONE
TZID:Europe/Stockholm
BEGIN:DAYLIGHT
TZOFFSETFROM:+0100
TZOFFSETTO:+0200
TZNAME:CEST
DTSTART:20210328T010000
END:DAYLIGHT
BEGIN:STANDARD
TZOFFSETFROM:+0200
TZOFFSETTO:+0100
TZNAME:CET
DTSTART:20211031T010000
END:STANDARD
BEGIN:DAYLIGHT
TZOFFSETFROM:+0100
TZOFFSETTO:+0200
TZNAME:CEST
DTSTART:20220327T010000
END:DAYLIGHT
BEGIN:STANDARD
TZOFFSETFROM:+0200
TZOFFSETTO:+0100
TZNAME:CET
DTSTART:20221030T010000
END:STANDARD
BEGIN:DAYLIGHT
TZOFFSETFROM:+0100
TZOFFSETTO:+0200
TZNAME:CEST
DTSTART:20230326T010000
END:DAYLIGHT
BEGIN:STANDARD
TZOFFSETFROM:+0200
TZOFFSETTO:+0100
TZNAME:CET
DTSTART:20231029T010000
END:STANDARD
END:VTIMEZONE
BEGIN:VEVENT
DTSTART;TZID=Europe/Stockholm:20220418T190000
DTEND;TZID=Europe/Stockholm:20220418T210000
DTSTAMP:20260423T111249
CREATED:20220126T080505Z
LAST-MODIFIED:20220127T092544Z
UID:1572-1650308400-1650315600@maseraticlub.se
SUMMARY:Föreläsning Maseratis historia\, AHK Bromma
DESCRIPTION:Den 18 april har Fredric Gustafsson blivit inbjuden till Automobilhistoriska klubben för att berätta om Maseratis intressanta historia. Ingen föranmälan behövs. Lokalen och caféet öppnar kl 18.00 \nAdress: Tackjärnsvägen 2\, Bromma \nTid: 19-21
URL:https://maseraticlub.se/event/forelasning-maseratis-historia-ahk-bromma/
END:VEVENT
END:VCALENDAR