BEGIN:VCALENDAR
VERSION:2.0
PRODID:-//Maserati Club Sweden - ECPv6.15.18//NONSGML v1.0//EN
CALSCALE:GREGORIAN
METHOD:PUBLISH
X-WR-CALNAME:Maserati Club Sweden
X-ORIGINAL-URL:https://maseraticlub.se
X-WR-CALDESC:Händelser för Maserati Club Sweden
REFRESH-INTERVAL;VALUE=DURATION:PT1H
X-Robots-Tag:noindex
X-PUBLISHED-TTL:PT1H
BEGIN:VTIMEZONE
TZID:Europe/Stockholm
BEGIN:DAYLIGHT
TZOFFSETFROM:+0100
TZOFFSETTO:+0200
TZNAME:CEST
DTSTART:20200329T010000
END:DAYLIGHT
BEGIN:STANDARD
TZOFFSETFROM:+0200
TZOFFSETTO:+0100
TZNAME:CET
DTSTART:20201025T010000
END:STANDARD
BEGIN:DAYLIGHT
TZOFFSETFROM:+0100
TZOFFSETTO:+0200
TZNAME:CEST
DTSTART:20210328T010000
END:DAYLIGHT
BEGIN:STANDARD
TZOFFSETFROM:+0200
TZOFFSETTO:+0100
TZNAME:CET
DTSTART:20211031T010000
END:STANDARD
BEGIN:DAYLIGHT
TZOFFSETFROM:+0100
TZOFFSETTO:+0200
TZNAME:CEST
DTSTART:20220327T010000
END:DAYLIGHT
BEGIN:STANDARD
TZOFFSETFROM:+0200
TZOFFSETTO:+0100
TZNAME:CET
DTSTART:20221030T010000
END:STANDARD
END:VTIMEZONE
BEGIN:VEVENT
DTSTART;TZID=Europe/Stockholm:20210918T110000
DTEND;TZID=Europe/Stockholm:20210918T160000
DTSTAMP:20260423T230703
CREATED:20210908T182209Z
LAST-MODIFIED:20210908T202539Z
UID:1549-1631962800-1631980800@maseraticlub.se
SUMMARY:Höstrally Häringe slott 18 september
DESCRIPTION:Välkommen till Höstrally 2021 som går till Häringe Slott! \nLördagen den 18 september\nKL 1100 – Samling på parkeringen vid Coop Forum i Haninge nära OK/Q8 \n\nKL 1130 – Avfärd på småvägar. \nKL 1230 – Ankomst Häringe slott \nSlottet vill att vi ställer 10 Maseratibilar på Slottsplanen\, il Presidente bestämmer vilka innan avfärd. \nÖvriga hänvisas till den näraliggande parkeringen. \nKL 1300 – Lunch: \n\nSmörstekt gnocchi med friterad salvia\, grillad kyckling\, soltorkad tomat\, krämig tryffelsås\, rucola och hyvlad parmesan\, bordsvatten ingår\nKokos- och vit choklad pannacotta\, kaffe\n\nEv. allergier eller om vegetarisk varmrätt föredras anges vid anmälan. \nKostnad 395 kr/person \n  \nAnmälan senast tisdagen den 14 september via mejl till Jan Fidjeland  fidjeland@fidjeland.se \n \nVi ser fram emot att träffas och hoppas att vi blir många! \nJan
URL:https://maseraticlub.se/event/hostrally-haringe-slott-2021/
LOCATION:Häringe Slott\, Häringe Slott\, Västerhaninge\, 13791\, Sverige
CATEGORIES:Maseratiträffar
ATTACH;FMTTYPE=image/jpeg:https://maseraticlub.se/wp-content/uploads/2021/09/haringeslott.jpg
ORGANIZER;CN="Maserati Club Sweden":MAILTO:info@maseraticlub.se
END:VEVENT
END:VCALENDAR