BEGIN:VCALENDAR
VERSION:2.0
PRODID:-//Maserati Club Sweden - ECPv6.15.18//NONSGML v1.0//EN
CALSCALE:GREGORIAN
METHOD:PUBLISH
X-ORIGINAL-URL:https://maseraticlub.se
X-WR-CALDESC:Händelser för Maserati Club Sweden
REFRESH-INTERVAL;VALUE=DURATION:PT1H
X-Robots-Tag:noindex
X-PUBLISHED-TTL:PT1H
BEGIN:VTIMEZONE
TZID:Europe/Stockholm
BEGIN:DAYLIGHT
TZOFFSETFROM:+0100
TZOFFSETTO:+0200
TZNAME:CEST
DTSTART:20200329T010000
END:DAYLIGHT
BEGIN:STANDARD
TZOFFSETFROM:+0200
TZOFFSETTO:+0100
TZNAME:CET
DTSTART:20201025T010000
END:STANDARD
BEGIN:DAYLIGHT
TZOFFSETFROM:+0100
TZOFFSETTO:+0200
TZNAME:CEST
DTSTART:20210328T010000
END:DAYLIGHT
BEGIN:STANDARD
TZOFFSETFROM:+0200
TZOFFSETTO:+0100
TZNAME:CET
DTSTART:20211031T010000
END:STANDARD
BEGIN:DAYLIGHT
TZOFFSETFROM:+0100
TZOFFSETTO:+0200
TZNAME:CEST
DTSTART:20220327T010000
END:DAYLIGHT
BEGIN:STANDARD
TZOFFSETFROM:+0200
TZOFFSETTO:+0100
TZNAME:CET
DTSTART:20221030T010000
END:STANDARD
END:VTIMEZONE
BEGIN:VEVENT
DTSTART;TZID=Europe/Stockholm:20210323T190000
DTEND;TZID=Europe/Stockholm:20210323T200000
DTSTAMP:20260424T092011
CREATED:20210303T092605Z
LAST-MODIFIED:20210303T092826Z
UID:1514-1616526000-1616529600@maseraticlub.se
SUMMARY:Digitalt årsmöte 23 mars kl 19
DESCRIPTION:Pga rådande omständigheter bjuder vi in våra medlemmar på det första digitala årsmötet någonsin. \nAnvänder du PC är det bara att klicka på länken alt kopiera och klistra in i din browser\, använder du iPad eller iPhone behöver du ladda ner Zoom appen. \nhttps://lixil.zoom.us/j/97215574555?pwd=K0xGS3ROR3NqUFJ1RlBOLzRhaHdzZz09 \nDagordning: \n1        Val av ordförande vid årsmötet \n2        Upprättande och godkännande av röstlängd \n3        Val av en eller två justeringsmän \n4        Prövning av om stämman blivit behörigen sammankallad \n5         Godkännande av dagordning \n6         Framläggande av styrelsens verksamhetsberättelse samt resultat- och balansrapport \noch revisionsberättelse \n7        Beslut \n\na) om fastställelse av resultatrapporten och balansrapporten\nb) om ansvarsfrihet åt styrelseledamöterna\nc) om fastställande av årsavgift\n\n8        Föredragning av verksamhetsplan och budget \n9        Val av styrelseledamöter\, ordförande i styrelsen\, styrelsesuppleanter\, revisor och revisorssuppleant \n10      Val av valberedning \n11      Annat ärende\, som skall vara styrelsen tillhanda senast två veckor före årsmötet \nÖvrigt: Styrelsen föreslår ett tillägg till klubbens stadgar gällande GDPR i sambande med distribution av medlemsmatrikel. Tillägget föreslår att man som medlem automatiskt godkänner publicering av namn\, adress\, telefon\, mailadress samt bilinnehav till övriga medlemmar i klubben. Om man inte önskar vara med i matrikeln måste detta meddelas medlemsansvarig i god tid innan matrikeln publiceras. \nFör att en ändring i stadgarna ska genomföras krävs 2/3 majoritet av deltagarna på årsmötet. \n 
URL:https://maseraticlub.se/event/digitalt-arsmote-23-mars-kl-19/
END:VEVENT
END:VCALENDAR