BEGIN:VCALENDAR
VERSION:2.0
PRODID:-//Maserati Club Sweden - ECPv6.15.18//NONSGML v1.0//EN
CALSCALE:GREGORIAN
METHOD:PUBLISH
X-WR-CALNAME:Maserati Club Sweden
X-ORIGINAL-URL:https://maseraticlub.se
X-WR-CALDESC:Händelser för Maserati Club Sweden
REFRESH-INTERVAL;VALUE=DURATION:PT1H
X-Robots-Tag:noindex
X-PUBLISHED-TTL:PT1H
BEGIN:VTIMEZONE
TZID:Europe/Stockholm
BEGIN:DAYLIGHT
TZOFFSETFROM:+0100
TZOFFSETTO:+0200
TZNAME:CEST
DTSTART:20190331T010000
END:DAYLIGHT
BEGIN:STANDARD
TZOFFSETFROM:+0200
TZOFFSETTO:+0100
TZNAME:CET
DTSTART:20191027T010000
END:STANDARD
BEGIN:DAYLIGHT
TZOFFSETFROM:+0100
TZOFFSETTO:+0200
TZNAME:CEST
DTSTART:20200329T010000
END:DAYLIGHT
BEGIN:STANDARD
TZOFFSETFROM:+0200
TZOFFSETTO:+0100
TZNAME:CET
DTSTART:20201025T010000
END:STANDARD
BEGIN:DAYLIGHT
TZOFFSETFROM:+0100
TZOFFSETTO:+0200
TZNAME:CEST
DTSTART:20210328T010000
END:DAYLIGHT
BEGIN:STANDARD
TZOFFSETFROM:+0200
TZOFFSETTO:+0100
TZNAME:CET
DTSTART:20211031T010000
END:STANDARD
END:VTIMEZONE
BEGIN:VEVENT
DTSTART;TZID=Europe/Stockholm:20200613T093000
DTEND;TZID=Europe/Stockholm:20200613T150000
DTSTAMP:20260425T002949
CREATED:20200528T200853Z
LAST-MODIFIED:20200528T201029Z
UID:1411-1592040600-1592060400@maseraticlub.se
SUMMARY:Årsmöte och vårutflykt 2020
DESCRIPTION:Lördagen den 13 juni genomför vi\, under stor försiktighet\, samt beaktande av allt vi har lärt oss de senaste månaderna om hur vi kan minska riskerna för smittspridning\, årets första evenemang! \nProgram\n\n09.30 Samling bensinstation Circle K Roslagsvägen Universitetet /Albana. Karta över\nfärdväg delas ut på plats\, till deltagarna.\n10.00 Avfärd mot Rådmansö\n12.00 Lunch på Bröderna Andersson\, Södersvik\, Rådmansö.\nLunch arrangeras varför vi behöver er förhandsanmälan så att vi vet hur många vi blir.\nCa 13.00/ efter lunch Årsmöte\nDärefter hemfärd\n\nOBS! Förhandsanmälan (lunch Södersvik) till roland.axelson@maseraticlub.se \nVarmt välkomna! /Roland A.\, Jan F.
URL:https://maseraticlub.se/event/arsmote-och-varutflykt-2020/
LOCATION:Rådmansö\, Rådmansö\, Norrtälje\, 76194\, Sverige
CATEGORIES:Maseratiträffar
ORGANIZER;CN="Maserati Club Sweden":MAILTO:info@maseraticlub.se
END:VEVENT
END:VCALENDAR