BEGIN:VCALENDAR
VERSION:2.0
PRODID:-//Maserati Club Sweden - ECPv6.15.18//NONSGML v1.0//EN
CALSCALE:GREGORIAN
METHOD:PUBLISH
X-WR-CALNAME:Maserati Club Sweden
X-ORIGINAL-URL:https://maseraticlub.se
X-WR-CALDESC:Händelser för Maserati Club Sweden
REFRESH-INTERVAL;VALUE=DURATION:PT1H
X-Robots-Tag:noindex
X-PUBLISHED-TTL:PT1H
BEGIN:VTIMEZONE
TZID:Europe/Stockholm
BEGIN:DAYLIGHT
TZOFFSETFROM:+0100
TZOFFSETTO:+0200
TZNAME:CEST
DTSTART:20180325T010000
END:DAYLIGHT
BEGIN:STANDARD
TZOFFSETFROM:+0200
TZOFFSETTO:+0100
TZNAME:CET
DTSTART:20181028T010000
END:STANDARD
BEGIN:DAYLIGHT
TZOFFSETFROM:+0100
TZOFFSETTO:+0200
TZNAME:CEST
DTSTART:20190331T010000
END:DAYLIGHT
BEGIN:STANDARD
TZOFFSETFROM:+0200
TZOFFSETTO:+0100
TZNAME:CET
DTSTART:20191027T010000
END:STANDARD
BEGIN:DAYLIGHT
TZOFFSETFROM:+0100
TZOFFSETTO:+0200
TZNAME:CEST
DTSTART:20200329T010000
END:DAYLIGHT
BEGIN:STANDARD
TZOFFSETFROM:+0200
TZOFFSETTO:+0100
TZNAME:CET
DTSTART:20201025T010000
END:STANDARD
END:VTIMEZONE
BEGIN:VEVENT
DTSTART;VALUE=DATE:20190914
DTEND;VALUE=DATE:20190916
DTSTAMP:20260425T173227
CREATED:20190509T024619Z
LAST-MODIFIED:20190509T024619Z
UID:1326-1568419200-1568591999@maseraticlub.se
SUMMARY:Spettacolo Nordico
DESCRIPTION:Den 14-15 September genomförs Spettacolo Nordico för andra gången på Ring Knutstorp i Skåne/Sverige. Som arrangör står de Nordiska Alfa Romeo klubbarna gemensamt\, och de bjuder naturligtvis in övriga Italienska bilklubbar att medverka på en supertrevlig helg! \nProgrammet består av \n\nBilutställning/Mässområde\nRacing med Italienska Racebilar (race taxi\, Medåkning)\nTrackday med egen gatreggad bil\nLugna timmen – kör på banan med egen bil i sansad fart efter pacecar\nMiddag med festligheter på lördagkväll på resturangen\n\nSumma summarum\, en kanonhelg för hela familjen som gillar Italienska fordon!
URL:https://maseraticlub.se/event/spettacolo-nordico-2019/
LOCATION:Ring Knutstorp\, Ring Knutstorp\, Kågeröd\, Sverige
CATEGORIES:Andra träffar
END:VEVENT
BEGIN:VEVENT
DTSTART;TZID=Europe/Stockholm:20190920T150000
DTEND;TZID=Europe/Stockholm:20190923T113000
DTSTAMP:20260425T173227
CREATED:20181028T020917Z
LAST-MODIFIED:20181029T215145Z
UID:1242-1568991600-1569238200@maseraticlub.se
SUMMARY:Maserati International Rally 2019 i Skottland
DESCRIPTION:Program och information om anmälan finns på deras dedikerade hemsida: http://www.mir2019.uk/ \nAnmälan öppnar 1 november 2018\, se till att inte vänta för länge för då tar platserna kanske slut…
URL:https://maseraticlub.se/event/mir-2019-i-skottland/
LOCATION:Gleneagles Hotel\, Auchterarder\, Perthshire\, PH3 1SH\, Storbritannien (Förenade kungariket Storbritannien)
END:VEVENT
END:VCALENDAR