BEGIN:VCALENDAR
VERSION:2.0
PRODID:-//Maserati Club Sweden - ECPv6.15.18//NONSGML v1.0//EN
CALSCALE:GREGORIAN
METHOD:PUBLISH
X-ORIGINAL-URL:https://maseraticlub.se
X-WR-CALDESC:Händelser för Maserati Club Sweden
REFRESH-INTERVAL;VALUE=DURATION:PT1H
X-Robots-Tag:noindex
X-PUBLISHED-TTL:PT1H
BEGIN:VTIMEZONE
TZID:Europe/Stockholm
BEGIN:DAYLIGHT
TZOFFSETFROM:+0100
TZOFFSETTO:+0200
TZNAME:CEST
DTSTART:20220327T010000
END:DAYLIGHT
BEGIN:STANDARD
TZOFFSETFROM:+0200
TZOFFSETTO:+0100
TZNAME:CET
DTSTART:20221030T010000
END:STANDARD
BEGIN:DAYLIGHT
TZOFFSETFROM:+0100
TZOFFSETTO:+0200
TZNAME:CEST
DTSTART:20230326T010000
END:DAYLIGHT
BEGIN:STANDARD
TZOFFSETFROM:+0200
TZOFFSETTO:+0100
TZNAME:CET
DTSTART:20231029T010000
END:STANDARD
BEGIN:DAYLIGHT
TZOFFSETFROM:+0100
TZOFFSETTO:+0200
TZNAME:CEST
DTSTART:20240331T010000
END:DAYLIGHT
BEGIN:STANDARD
TZOFFSETFROM:+0200
TZOFFSETTO:+0100
TZNAME:CET
DTSTART:20241027T010000
END:STANDARD
END:VTIMEZONE
BEGIN:VEVENT
DTSTART;TZID=Europe/Stockholm:20230501T100000
DTEND;TZID=Europe/Stockholm:20230501T170000
DTSTAMP:20260423T013705
CREATED:20230424T184806Z
LAST-MODIFIED:20230427T060157Z
UID:2230-1682935200-1682960400@maseraticlub.se
SUMMARY:Italiensk träff vid Skokloster slott
DESCRIPTION:Som vanligt blir det träff för italienska fordon vid Skokloster slott\, nordväst om Stockholm\, den 1 maj! \nDet börjar vid 10 och håller på till 17\, eller tills sista bilen kör hem… \nAutoropa bjuder in till frukost på sitt servicecenter i Frihamnen. Frukosten serveras 8:30 och sedan är det gemensam avfärd mot Skokloster 9:15.
URL:https://maseraticlub.se/event/italiensk-traff-vid-skokloster-slott-2023/
LOCATION:Skoklosters Slott\, Skoklosters slott\, Skokloster\, 74696\, Sverige
CATEGORIES:Andra träffar
END:VEVENT
END:VCALENDAR