BEGIN:VCALENDAR
VERSION:2.0
PRODID:-//Maserati Club Sweden - ECPv6.15.18//NONSGML v1.0//EN
CALSCALE:GREGORIAN
METHOD:PUBLISH
X-WR-CALNAME:Maserati Club Sweden
X-ORIGINAL-URL:https://maseraticlub.se
X-WR-CALDESC:Händelser för Maserati Club Sweden
REFRESH-INTERVAL;VALUE=DURATION:PT1H
X-Robots-Tag:noindex
X-PUBLISHED-TTL:PT1H
BEGIN:VTIMEZONE
TZID:Europe/Stockholm
BEGIN:DAYLIGHT
TZOFFSETFROM:+0100
TZOFFSETTO:+0200
TZNAME:CEST
DTSTART:20220327T010000
END:DAYLIGHT
BEGIN:STANDARD
TZOFFSETFROM:+0200
TZOFFSETTO:+0100
TZNAME:CET
DTSTART:20221030T010000
END:STANDARD
BEGIN:DAYLIGHT
TZOFFSETFROM:+0100
TZOFFSETTO:+0200
TZNAME:CEST
DTSTART:20230326T010000
END:DAYLIGHT
BEGIN:STANDARD
TZOFFSETFROM:+0200
TZOFFSETTO:+0100
TZNAME:CET
DTSTART:20231029T010000
END:STANDARD
BEGIN:DAYLIGHT
TZOFFSETFROM:+0100
TZOFFSETTO:+0200
TZNAME:CEST
DTSTART:20240331T010000
END:DAYLIGHT
BEGIN:STANDARD
TZOFFSETFROM:+0200
TZOFFSETTO:+0100
TZNAME:CET
DTSTART:20241027T010000
END:STANDARD
END:VTIMEZONE
BEGIN:VEVENT
DTSTART;TZID=Europe/Stockholm:20230325T140000
DTEND;TZID=Europe/Stockholm:20230325T150000
DTSTAMP:20260422T082037
CREATED:20230226T220032Z
LAST-MODIFIED:20230226T220032Z
UID:2218-1679752800-1679756400@maseraticlub.se
SUMMARY:Årsmöte 2023 (online)
DESCRIPTION:Välkomna till 2023 års årsmöte den 25 Mars kl. 14 på Zoom.\nFör att delta\, klicka på länken som skickats ut till alla medlemmar. \nAgenda:\n\nVal av ordförande vid årsmötet\nUpprättande och godkännande av röstlängd\nVal av en eller två justeringsmän\nPrövning av om stämman blivit behörigen sammankallad\nGodkännande av dagordning\nFramläggande av styrelsens verksamhetsberättelse samt resultat- och balansrapport och revisionsberättelse\nBeslut:\n\nom fastställelse av resultatrapporten och balansrapporten\nom ansvarsfrihet åt styrelseledamöterna\nom fastställande av årsavgift\n\n\nFöredragning av verksamhetsplan och budget\nVal av styrelseledamöter\, ordförande i styrelsen\, styrelsesuppleanter\,\nrevisor och revisorssuppleant\nVal av valberedning\nAnnat ärende\, som skall vara styrelsen tillhanda senast två veckor\nföre årsmöte\n\n 
URL:https://maseraticlub.se/event/arsmote-2023-online/
LOCATION:Online
CATEGORIES:Maseratiträffar
ORGANIZER;CN="Maserati Club Sweden":MAILTO:info@maseraticlub.se
END:VEVENT
END:VCALENDAR