BEGIN:VCALENDAR
VERSION:2.0
PRODID:-//Maserati Club Sweden - ECPv6.15.18//NONSGML v1.0//EN
CALSCALE:GREGORIAN
METHOD:PUBLISH
X-WR-CALNAME:Maserati Club Sweden
X-ORIGINAL-URL:https://maseraticlub.se
X-WR-CALDESC:Händelser för Maserati Club Sweden
REFRESH-INTERVAL;VALUE=DURATION:PT1H
X-Robots-Tag:noindex
X-PUBLISHED-TTL:PT1H
BEGIN:VTIMEZONE
TZID:Europe/Stockholm
BEGIN:DAYLIGHT
TZOFFSETFROM:+0100
TZOFFSETTO:+0200
TZNAME:CEST
DTSTART:20210328T010000
END:DAYLIGHT
BEGIN:STANDARD
TZOFFSETFROM:+0200
TZOFFSETTO:+0100
TZNAME:CET
DTSTART:20211031T010000
END:STANDARD
BEGIN:DAYLIGHT
TZOFFSETFROM:+0100
TZOFFSETTO:+0200
TZNAME:CEST
DTSTART:20220327T010000
END:DAYLIGHT
BEGIN:STANDARD
TZOFFSETFROM:+0200
TZOFFSETTO:+0100
TZNAME:CET
DTSTART:20221030T010000
END:STANDARD
BEGIN:DAYLIGHT
TZOFFSETFROM:+0100
TZOFFSETTO:+0200
TZNAME:CEST
DTSTART:20230326T010000
END:DAYLIGHT
BEGIN:STANDARD
TZOFFSETFROM:+0200
TZOFFSETTO:+0100
TZNAME:CET
DTSTART:20231029T010000
END:STANDARD
END:VTIMEZONE
BEGIN:VEVENT
DTSTART;TZID=Europe/Stockholm:20220326T140000
DTEND;TZID=Europe/Stockholm:20220326T160000
DTSTAMP:20260423T033835
CREATED:20220227T211430Z
LAST-MODIFIED:20220326T074009Z
UID:1592-1648303200-1648310400@maseraticlub.se
SUMMARY:Årsmöte 2022
DESCRIPTION:Årsmötet 2022 kommer hållas online kl 14. Klicka på länken nedan för att delta. \nhttps://lixil.zoom.us/j/99580020350?pwd=ZFlQd3YzT0FVc0VRV3FpNStUdG1IZz09 \n  \n 
URL:https://maseraticlub.se/event/arsmote-2022/
CATEGORIES:Maseratiträffar
ORGANIZER;CN="Maserati Club Sweden":MAILTO:info@maseraticlub.se
END:VEVENT
END:VCALENDAR