BEGIN:VCALENDAR
VERSION:2.0
PRODID:-//Maserati Club Sweden - ECPv6.15.18//NONSGML v1.0//EN
CALSCALE:GREGORIAN
METHOD:PUBLISH
X-ORIGINAL-URL:https://maseraticlub.se
X-WR-CALDESC:Händelser för Maserati Club Sweden
REFRESH-INTERVAL;VALUE=DURATION:PT1H
X-Robots-Tag:noindex
X-PUBLISHED-TTL:PT1H
BEGIN:VTIMEZONE
TZID:Europe/Stockholm
BEGIN:DAYLIGHT
TZOFFSETFROM:+0100
TZOFFSETTO:+0200
TZNAME:CEST
DTSTART:20230326T010000
END:DAYLIGHT
BEGIN:STANDARD
TZOFFSETFROM:+0200
TZOFFSETTO:+0100
TZNAME:CET
DTSTART:20231029T010000
END:STANDARD
BEGIN:DAYLIGHT
TZOFFSETFROM:+0100
TZOFFSETTO:+0200
TZNAME:CEST
DTSTART:20240331T010000
END:DAYLIGHT
BEGIN:STANDARD
TZOFFSETFROM:+0200
TZOFFSETTO:+0100
TZNAME:CET
DTSTART:20241027T010000
END:STANDARD
BEGIN:DAYLIGHT
TZOFFSETFROM:+0100
TZOFFSETTO:+0200
TZNAME:CEST
DTSTART:20250330T010000
END:DAYLIGHT
BEGIN:STANDARD
TZOFFSETFROM:+0200
TZOFFSETTO:+0100
TZNAME:CET
DTSTART:20251026T010000
END:STANDARD
END:VTIMEZONE
BEGIN:VEVENT
DTSTART;TZID=Europe/Stockholm:20240912T150000
DTEND;TZID=Europe/Stockholm:20240915T150000
DTSTAMP:20260420T104611
CREATED:20231106T222350Z
LAST-MODIFIED:20231106T222350Z
UID:2255-1726153200-1726412400@maseraticlub.se
SUMMARY:MIR 2024 i Österrike
DESCRIPTION:Österrikiska Maseratiklubben välkomnar oss till Maserati Internation Rally 2024 den 12-15 september. \nMedlemmar i svenska maseratiklubben kommer få ett mail med anmälningsformulär och information om kostnader och övrigt. \nDEAR MASERATISTI AROUND EUROPE AND THE WORLD!\nIt is with great pleasure\, pride\, and enthusiasm that we invite you to the Maserati\nInternational Rally 2024. We have the extraordinary privilege of hosting this legendary\ngathering of all Maserati enthusiasts. The Austrian Maserati Club is excited to welcome you\nto our picturesque Alpine region and provide you with an unforgettable and exhilarating\nprogram. \nThe Maserati International Rally (MIR) is the annual event that brings together Maserati\naficionados from around the world. This year\, we have reserved 100 coveted spots for our\nguests\, and registration is based on a ”First come – first serve” basis. Therefore\, we strongly\nrecommend registering as soon as possible to secure your spot. \nhttps://youtu.be/yrmlBtVsvW0?si=Ie2J0IeJwPRzytb0 \nAccommodation:\nScaleria Event Hotel at Lake Wolfgangsee\nhttps://www.scalaria.com/en/ \nThursday September 12\, 2024\n\nWelcome and Registration\nBuffet with regional food and drinks\n\nFriday September 13\, 2024\n\nRacetrack\,Salzburgring\n(please bring your helmets!)\nhttps://salzburgring.com/\nalternatively Salzburg downtown\n(R/T transfer with bus)\nZistelalm with Dinner & Music (R/T bus)\nhttps://www.zistelalm.at/\n\nSaturday September 14\, 2024\n\nRoad trip „Salzburg hills and lakes“\n& Cruise at Wolfgangsee\nGala Dinner with performances\,\nfollowed by Music & Dance\nPreview MIR 2025\n\nSunday September 15\, 2024\n\nBreakfast and Review of the MIR 2024\nGood-Bye\nPresidents Meeting
URL:https://maseraticlub.se/event/mir-2024-i-osterrike/
LOCATION:Scalaria Event Hotel\, See 1\, 5360 St.\, Wolfgang im Salzkammergut\, St\, 5360\, Österrike
CATEGORIES:Maseratiträffar
END:VEVENT
END:VCALENDAR