BEGIN:VCALENDAR
VERSION:2.0
PRODID:-//Maserati Club Sweden - ECPv6.15.18//NONSGML v1.0//EN
CALSCALE:GREGORIAN
METHOD:PUBLISH
X-ORIGINAL-URL:https://maseraticlub.se
X-WR-CALDESC:Händelser för Maserati Club Sweden
REFRESH-INTERVAL;VALUE=DURATION:PT1H
X-Robots-Tag:noindex
X-PUBLISHED-TTL:PT1H
BEGIN:VTIMEZONE
TZID:Europe/Stockholm
BEGIN:DAYLIGHT
TZOFFSETFROM:+0100
TZOFFSETTO:+0200
TZNAME:CEST
DTSTART:20220327T010000
END:DAYLIGHT
BEGIN:STANDARD
TZOFFSETFROM:+0200
TZOFFSETTO:+0100
TZNAME:CET
DTSTART:20221030T010000
END:STANDARD
BEGIN:DAYLIGHT
TZOFFSETFROM:+0100
TZOFFSETTO:+0200
TZNAME:CEST
DTSTART:20230326T010000
END:DAYLIGHT
BEGIN:STANDARD
TZOFFSETFROM:+0200
TZOFFSETTO:+0100
TZNAME:CET
DTSTART:20231029T010000
END:STANDARD
BEGIN:DAYLIGHT
TZOFFSETFROM:+0100
TZOFFSETTO:+0200
TZNAME:CEST
DTSTART:20240331T010000
END:DAYLIGHT
BEGIN:STANDARD
TZOFFSETFROM:+0200
TZOFFSETTO:+0100
TZNAME:CET
DTSTART:20241027T010000
END:STANDARD
END:VTIMEZONE
BEGIN:VEVENT
DTSTART;VALUE=DATE:20230914
DTEND;VALUE=DATE:20230918
DTSTAMP:20260421T031616
CREATED:20230723T085715Z
LAST-MODIFIED:20230723T090213Z
UID:2247-1694649600-1694995199@maseraticlub.se
SUMMARY:Maserati International Rally Barcelona
DESCRIPTION:This year 2023 the MIR lands in Spain. In Barcelona. From September 14 to 17. \nThe Maserati Spain Club Board has prepared a varied and entertaining program that we hope will be to your liking. We have tried to be very careful to offer you all the best. And above all\, we have had an impact on leaving the afternoons free. To enjoy rest\, the weather or simply to make the most of Barcelona and its surroundings and the many activities it offers. We hope to receive many of you and live up to your expectations. We are at your disposal for any doubt or question. \nHotel W\, Barcelona\, the base of the Rally.\nSee the full program and registration details at https://mir2023spain.com/. \nSee you soon.\nKind regards. \nThe Board of the Maserati Club Spain:\nFélix Buget. Manuel Raya. Luis liaga. Fady Nader. Juan Manuel Gomez. Luis Manuel Fernandez.
URL:https://maseraticlub.se/event/maserati-international-rally-barcelona/
LOCATION:Hotel W\, Barcelona\, Plaça Rosa Del Vents 1\, Final\, Pg. de Joan de Borbó\, Barcelona\, 08039
CATEGORIES:Maseratiträffar
END:VEVENT
END:VCALENDAR