BEGIN:VCALENDAR
VERSION:2.0
PRODID:-//Maserati Club Sweden - ECPv6.15.18//NONSGML v1.0//EN
CALSCALE:GREGORIAN
METHOD:PUBLISH
X-ORIGINAL-URL:https://maseraticlub.se
X-WR-CALDESC:Händelser för Maserati Club Sweden
REFRESH-INTERVAL;VALUE=DURATION:PT1H
X-Robots-Tag:noindex
X-PUBLISHED-TTL:PT1H
BEGIN:VTIMEZONE
TZID:Europe/Stockholm
BEGIN:DAYLIGHT
TZOFFSETFROM:+0100
TZOFFSETTO:+0200
TZNAME:CEST
DTSTART:20240331T010000
END:DAYLIGHT
BEGIN:STANDARD
TZOFFSETFROM:+0200
TZOFFSETTO:+0100
TZNAME:CET
DTSTART:20241027T010000
END:STANDARD
BEGIN:DAYLIGHT
TZOFFSETFROM:+0100
TZOFFSETTO:+0200
TZNAME:CEST
DTSTART:20250330T010000
END:DAYLIGHT
BEGIN:STANDARD
TZOFFSETFROM:+0200
TZOFFSETTO:+0100
TZNAME:CET
DTSTART:20251026T010000
END:STANDARD
BEGIN:DAYLIGHT
TZOFFSETFROM:+0100
TZOFFSETTO:+0200
TZNAME:CEST
DTSTART:20260329T010000
END:DAYLIGHT
BEGIN:STANDARD
TZOFFSETFROM:+0200
TZOFFSETTO:+0100
TZNAME:CET
DTSTART:20261025T010000
END:STANDARD
END:VTIMEZONE
BEGIN:VEVENT
DTSTART;TZID=Europe/Stockholm:20250524T100000
DTEND;TZID=Europe/Stockholm:20250525T170000
DTSTAMP:20260421T054654
CREATED:20250405T130257Z
LAST-MODIFIED:20250405T130257Z
UID:2370-1748080800-1748192400@maseraticlub.se
SUMMARY:Gothenburg Classic Car Weekend 2025
DESCRIPTION:Det har inte varit någon gemensam träff/utställning på västsidan av Sverige i Maserati klubbens historia och som ett led i att förbättra att så sker har klubben anmält 10 platser till Gothenburg Classic Car Weekend. \nHar ni inget annat för er tar ni tillfället i akt och anmäler er! \nEventet äger rum den 24–25 maj och är förmånligt för de som kommer att ställa ut sitt fordon\, ingen kostnad\, klubben betalar anmälningsavgift för medlemmar. Se detaljer i mail som skickats ut till alla medlemmar. Anmälan sker till vår ordförande\, enligt intruktioner i mailet\, senast siste april. \nFör de som inte bor i Göteborg och behöver bo i närheten har Clarion Hotel ett specialpris för utställare.
URL:https://maseraticlub.se/event/gothenburg-classic-car-weekend-2025/
LOCATION:Lindholmen\, Anders Carlssons Gata\, Göteborg\, 41755
CATEGORIES:Andra träffar
END:VEVENT
END:VCALENDAR